BEGIN:VCALENDAR
VERSION:2.0
PRODID:-//Luxembourg School of Insurance - ECPv4.2.7//NONSGML v1.0//EN
CALSCALE:GREGORIAN
METHOD:PUBLISH
X-WR-CALNAME:Luxembourg School of Insurance
X-ORIGINAL-URL:http://lsoi.lu
X-WR-CALDESC:Events for Luxembourg School of Insurance
BEGIN:VEVENT
DTSTART;TZID=Europe/Brussels:20161108T130000
DTEND;TZID=Europe/Brussels:20161108T170000
DTSTAMP:20180702T220007
CREATED:20161024T203102
LAST-MODIFIED:20161101T182423
UID:5530-1478610000-1478624400@lsoi.lu
SUMMARY:Cycle Droit de la construction (Full)
DESCRIPTION:Cycle de 5 modules dans le domaine de la construction\n\n\n\n\n\nLes chantiers de construction sont partout et suscitent le bonheur pour les uns et la prise de tête pour les autres. D’une part\, les voisins subissent une modification dans leur entourage direct et\, de l’autre\, risquent qu’une atteinte ne puisse être apportée à leurs biens.\n\nPour vous permettre de mieux comprendre les enjeux gravitant autour d’un projet de construction\, la Luxembourg School of Insurance\, en collaboration avec la Chambre des Métiers\, organise une formation modulaire sur les aspects juridiques\, techniques et assurantiels de l’assurance construction.\n\nCette formation s’adresse à l’ensemble des professionnels du métier de l’assurance et de la construction\, quel que soit leur fonction\, depuis la première idée du projet jusqu’à la remise des clefs.\n\nLes modules auront lieu aux dates suivantes : 8 novembre 2016 ; 13 décembre 2016 ; 10 janvier 2017 ; 14 février 2017 ; 7 mars 2017.\n\n\n\n\n\n[dl_program link="http://lsoi.lu/wp-content/uploads/2016/10/LSOI-Chambre_métiers-Formation_construction.pdf"]
URL:http://lsoi.lu/event/cycle-droit-de-construction-full/
LOCATION:2\, Circuit de la Foire Internationale\, L-1347 Luxembourg-Kirchberg\, Luxembourg
END:VEVENT
END:VCALENDAR