BEGIN:VCALENDAR
VERSION:2.0
PRODID:-//Luxembourg School of Insurance - ECPv4.2.7//NONSGML v1.0//EN
CALSCALE:GREGORIAN
METHOD:PUBLISH
X-WR-CALNAME:Luxembourg School of Insurance
X-ORIGINAL-URL:http://lsoi.lu
X-WR-CALDESC:Events for Luxembourg School of Insurance
BEGIN:VEVENT
DTSTART;TZID=Europe/Brussels:20180703T133000
DTEND;TZID=Europe/Brussels:20180703T173000
DTSTAMP:20180702T215723
CREATED:20180507T215946
LAST-MODIFIED:20180507T220214
UID:7001-1530624600-1530639000@lsoi.lu
SUMMARY:AML & assurance
DESCRIPTION:Le secteur des assurances occupe une place privilégiée dans le cadre de la lutte contre le blanchiment et le financement du terrorisme. En effet\, les produits d’assurance vie luxembourgeois constituent des cibles spécifiques et requièrent la plus grande attention.\n\nAprès un rappel des principes\, et des évolutions législatives récentes (Loi luxembourgeoise du 13 février 2018 – 5ème directive AML)\, le séminaire examinera divers cas pratiques spécifiques aux produits d’assurance.
URL:http://lsoi.lu/event/aml-assurance/
LOCATION:6\, Bvd Grande-Duchesse Charlotte\, Luxembourg\, Luxembourg
CATEGORIES:Workshop
ATTACH;FMTTYPE=image/jpeg:http://lsoi.lu/wp-content/uploads/2016/08/contact2.jpg
END:VEVENT
END:VCALENDAR